BEGIN:VCALENDAR
VERSION:2.0
PRODID:-//LCPC Parent Education - ECPv6.15.13//NONSGML v1.0//EN
CALSCALE:GREGORIAN
METHOD:PUBLISH
X-WR-CALNAME:LCPC Parent Education
X-ORIGINAL-URL:https://lcpcparented.org
X-WR-CALDESC:Events for LCPC Parent Education
REFRESH-INTERVAL;VALUE=DURATION:PT1H
X-Robots-Tag:noindex
X-PUBLISHED-TTL:PT1H
BEGIN:VTIMEZONE
TZID:America/Los_Angeles
BEGIN:DAYLIGHT
TZOFFSETFROM:-0800
TZOFFSETTO:-0700
TZNAME:PDT
DTSTART:20250309T100000
END:DAYLIGHT
BEGIN:STANDARD
TZOFFSETFROM:-0700
TZOFFSETTO:-0800
TZNAME:PST
DTSTART:20251102T090000
END:STANDARD
BEGIN:DAYLIGHT
TZOFFSETFROM:-0800
TZOFFSETTO:-0700
TZNAME:PDT
DTSTART:20260308T100000
END:DAYLIGHT
BEGIN:STANDARD
TZOFFSETFROM:-0700
TZOFFSETTO:-0800
TZNAME:PST
DTSTART:20261101T090000
END:STANDARD
BEGIN:DAYLIGHT
TZOFFSETFROM:-0800
TZOFFSETTO:-0700
TZNAME:PDT
DTSTART:20270314T100000
END:DAYLIGHT
BEGIN:STANDARD
TZOFFSETFROM:-0700
TZOFFSETTO:-0800
TZNAME:PST
DTSTART:20271107T090000
END:STANDARD
END:VTIMEZONE
BEGIN:VEVENT
DTSTART;TZID=America/Los_Angeles:20260416T173000
DTEND;TZID=America/Los_Angeles:20260416T190000
DTSTAMP:20260422T144712
CREATED:20260407T180053Z
LAST-MODIFIED:20260407T180102Z
UID:4162-1776360600-1776366000@lcpcparented.org
SUMMARY:LCPC + Parent Ed Outdoor Revive Worship Night
DESCRIPTION:At LCPC\, we love families! Bring your whole gang and hang out with your Parent Ed Friends for a special family-friendly worship outdoors. Pack a picnic\, bring your family and revive your spirit.
URL:https://lcpcparented.org/event/lcpc-parent-ed-outdoor-revive-worship-night/
CATEGORIES:Event
END:VEVENT
END:VCALENDAR