BEGIN:VCALENDAR
VERSION:2.0
PRODID:-//LCPC Parent Education - ECPv6.15.13//NONSGML v1.0//EN
CALSCALE:GREGORIAN
METHOD:PUBLISH
X-WR-CALNAME:LCPC Parent Education
X-ORIGINAL-URL:https://lcpcparented.org
X-WR-CALDESC:Events for LCPC Parent Education
REFRESH-INTERVAL;VALUE=DURATION:PT1H
X-Robots-Tag:noindex
X-PUBLISHED-TTL:PT1H
BEGIN:VTIMEZONE
TZID:America/Los_Angeles
BEGIN:DAYLIGHT
TZOFFSETFROM:-0800
TZOFFSETTO:-0700
TZNAME:PDT
DTSTART:20250309T100000
END:DAYLIGHT
BEGIN:STANDARD
TZOFFSETFROM:-0700
TZOFFSETTO:-0800
TZNAME:PST
DTSTART:20251102T090000
END:STANDARD
BEGIN:DAYLIGHT
TZOFFSETFROM:-0800
TZOFFSETTO:-0700
TZNAME:PDT
DTSTART:20260308T100000
END:DAYLIGHT
BEGIN:STANDARD
TZOFFSETFROM:-0700
TZOFFSETTO:-0800
TZNAME:PST
DTSTART:20261101T090000
END:STANDARD
BEGIN:DAYLIGHT
TZOFFSETFROM:-0800
TZOFFSETTO:-0700
TZNAME:PDT
DTSTART:20270314T100000
END:DAYLIGHT
BEGIN:STANDARD
TZOFFSETFROM:-0700
TZOFFSETTO:-0800
TZNAME:PST
DTSTART:20271107T090000
END:STANDARD
END:VTIMEZONE
BEGIN:VEVENT
DTSTART;TZID=America/Los_Angeles:20260408T190000
DTEND;TZID=America/Los_Angeles:20260429T203000
DTSTAMP:20260422T130136
CREATED:20260128T185739Z
LAST-MODIFIED:20260128T190157Z
UID:4050-1775674800-1777494600@lcpcparented.org
SUMMARY:Parent Express: The Art of Fatherhood Spring
DESCRIPTION:Are you Anxious\, Avoidant or Secure in your Attachments?  Come learn how to increase your capacity for connection with those you love most.  We’ve got some great discussions lined up all month with facilitators Paul Song\, Matt Allen\, Robert Cha\, Ron Chiu\, and David Lamb. \nDads of all ages and stages will learn from the popular book:  ATTACHED by Dr. Levine and Rachel Heller which reviews 3 types of attachment styles and how this knowledge can help us increase our own ability more deeply with our children\, spouse\, and even ourselves. \nCome hang out with other dads\, share your experiences\, and pick up some practical advice in a relaxed setting as we tackle the real issues with real talk- no pressure\, just good company and useful tips! \nClass registration includes pizza & beer dinner at 6:15pm and class starts from 7-8:30pm. \nParticipants will each receive a copy of the book ATTACHED.
URL:https://lcpcparented.org/event/parent-express-the-art-of-fatherhood-spring/
END:VEVENT
END:VCALENDAR